BEGIN:VCALENDAR
VERSION:2.0
PRODID:icalendar-ruby
CALSCALE:GREGORIAN
METHOD:PUBLISH
BEGIN:VEVENT
DTSTAMP:20260420T122200Z
UID:294-201003@sfbayfellowship.com
DTSTART:20260426T173000Z
DTEND:20260426T193000Z
CLASS:PUBLIC
CREATED:20260405T101237
DESCRIPTION:Join us for our All Fellowship Group Sunday Church Service. Onc
 e a month all of our fellowship groups come together to have an All Fellow
 ship Church Service.  The location changes monthly as we meet and this mo
 nth's location will be shared here soon. \nChurch service will start at 1
 0:30AM.\nWe will meet at the JJ Lake Business Center\, located at 340 E Mi
 ddlefield Rd\, in Mountain View.\nWe look forward to seeing you there!
LAST-MODIFIED:20260405T101237
LOCATION:JJ Lake Business Center - 340 E Middlefield Rd\, Mountain View
SUMMARY:All Fellowship Group Sunday Church Service
URL;VALUE=URI:https://www.sfbayfellowship.com/events/all-fellowship-group-s
 unday-church-service/2026-04-26
ATTACH;FILENAME=IMG_4735.jpeg;FMTTYPE=image/jpeg:https://dq5pwpg1q8ru0.clou
 dfront.net/2026/04/05/17/12/37/46e8cef6-42b0-4190-9f32-60dc89e261ca/IMG_47
 35.jpeg
END:VEVENT
END:VCALENDAR
